
BEGIN:VCALENDAR
VERSION:2.0
PRODID:-//Hinds Community College - ECPv6.15.20//NONSGML v1.0//EN
CALSCALE:GREGORIAN
METHOD:PUBLISH
X-WR-CALNAME:Hinds Community College
X-ORIGINAL-URL:https://www.hindscc.edu
X-WR-CALDESC:Events for Hinds Community College
REFRESH-INTERVAL;VALUE=DURATION:PT1H
X-Robots-Tag:noindex
X-PUBLISHED-TTL:PT1H
BEGIN:VTIMEZONE
TZID:America/Chicago
BEGIN:DAYLIGHT
TZOFFSETFROM:-0600
TZOFFSETTO:-0500
TZNAME:CDT
DTSTART:20250309T080000
END:DAYLIGHT
BEGIN:STANDARD
TZOFFSETFROM:-0500
TZOFFSETTO:-0600
TZNAME:CST
DTSTART:20251102T070000
END:STANDARD
BEGIN:DAYLIGHT
TZOFFSETFROM:-0600
TZOFFSETTO:-0500
TZNAME:CDT
DTSTART:20260308T080000
END:DAYLIGHT
BEGIN:STANDARD
TZOFFSETFROM:-0500
TZOFFSETTO:-0600
TZNAME:CST
DTSTART:20261101T070000
END:STANDARD
BEGIN:DAYLIGHT
TZOFFSETFROM:-0600
TZOFFSETTO:-0500
TZNAME:CDT
DTSTART:20270314T080000
END:DAYLIGHT
BEGIN:STANDARD
TZOFFSETFROM:-0500
TZOFFSETTO:-0600
TZNAME:CST
DTSTART:20271107T070000
END:STANDARD
END:VTIMEZONE
BEGIN:VEVENT
DTSTART;VALUE=DATE:20260415
DTEND;VALUE=DATE:20260428
DTSTAMP:20260424T101545
CREATED:20260415T233515Z
LAST-MODIFIED:20260415T233515Z
UID:10004012-1776211200-1777334399@www.hindscc.edu
SUMMARY:2026 Annual Student Art Exhibition
DESCRIPTION:
URL:https://www.hindscc.edu/calendar-event/2026-annual-student-art-exhibition
LOCATION:Raymond Campus\, 608 Hinds Blvd\, Raymond\, MS\, 39154\, United States
CATEGORIES:Art Exhibit,Standard
ATTACH;FMTTYPE=application/pdf:https://www.hindscc.edu/wp-content/uploads/2026/04/2026-Student-Art-Exhibition-copy_Cynthia-Groya.pdf
GEO:32.254909495787;-90.416673816829
X-APPLE-STRUCTURED-LOCATION;VALUE=URI;X-ADDRESS=Raymond Campus 608 Hinds Blvd Raymond MS 39154 United States;X-APPLE-RADIUS=500;X-TITLE=608 Hinds Blvd:geo:-90.416673816829,32.254909495787
END:VEVENT
BEGIN:VEVENT
DTSTART;TZID=America/Chicago:20260425T090000
DTEND;TZID=America/Chicago:20260425T130000
DTSTAMP:20260424T101545
CREATED:20260324T151620Z
LAST-MODIFIED:20260324T151620Z
UID:10003612-1777107600-1777122000@www.hindscc.edu
SUMMARY:Utica Cheerleaders Tryouts
DESCRIPTION:This event is for cheer tryouts for the Utica campus cheerleaders.
URL:https://www.hindscc.edu/calendar-event/utica-cheerleaders-tryouts
LOCATION:Utica Campus\, 34175 Miss. 18 West\, Utica\, MS\, 39175\, United States
CATEGORIES:Standard
GEO:32.047053311277;-90.622913931058
X-APPLE-STRUCTURED-LOCATION;VALUE=URI;X-ADDRESS=Utica Campus 34175 Miss. 18 West Utica MS 39175 United States;X-APPLE-RADIUS=500;X-TITLE=34175 Miss. 18 West:geo:-90.622913931058,32.047053311277
END:VEVENT
BEGIN:VEVENT
DTSTART;TZID=America/Chicago:20260427T083000
DTEND;TZID=America/Chicago:20260427T123000
DTSTAMP:20260424T101545
CREATED:20260408T013945Z
LAST-MODIFIED:20260408T014346Z
UID:10003999-1777278600-1777293000@www.hindscc.edu
SUMMARY:Career Preparedness Training
DESCRIPTION:
URL:https://www.hindscc.edu/calendar-event/career-preparedness-training/2026-04-27
LOCATION:Rankin Campus\, 3805 Highway 80 East\, Pearl\, MS\, 39208\, United States
CATEGORIES:Standard
GEO:32.280326439843;-90.088976142079
X-APPLE-STRUCTURED-LOCATION;VALUE=URI;X-ADDRESS=Rankin Campus 3805 Highway 80 East Pearl MS 39208 United States;X-APPLE-RADIUS=500;X-TITLE=3805 Highway 80 East:geo:-90.088976142079,32.280326439843
END:VEVENT
BEGIN:VEVENT
DTSTART;TZID=America/Chicago:20260427T090000
DTEND;TZID=America/Chicago:20260427T120000
DTSTAMP:20260424T101545
CREATED:20260414T142858Z
LAST-MODIFIED:20260414T142858Z
UID:10004004-1777280400-1777291200@www.hindscc.edu
SUMMARY:Project Hope - Rankin Campus
DESCRIPTION:Join us for fun activities\, popcorn\, and learn methods to help manage stress.
URL:https://www.hindscc.edu/calendar-event/project-hope-rankin-campus
LOCATION:Rankin Campus\, 3805 Highway 80 East\, Pearl\, MS\, 39208\, United States
CATEGORIES:Standard
ATTACH;FMTTYPE=application/pdf:https://www.hindscc.edu/wp-content/uploads/2026/04/ProjectHope-Updated-Flyer-1.pdf
GEO:32.280326439843;-90.088976142079
X-APPLE-STRUCTURED-LOCATION;VALUE=URI;X-ADDRESS=Rankin Campus 3805 Highway 80 East Pearl MS 39208 United States;X-APPLE-RADIUS=500;X-TITLE=3805 Highway 80 East:geo:-90.088976142079,32.280326439843
END:VEVENT
BEGIN:VEVENT
DTSTART;TZID=America/Chicago:20260428T110000
DTEND;TZID=America/Chicago:20260428T130000
DTSTAMP:20260424T101546
CREATED:20260413T194537Z
LAST-MODIFIED:20260413T194537Z
UID:10004000-1777374000-1777381200@www.hindscc.edu
SUMMARY:Spring Fest - NAHC
DESCRIPTION:
URL:https://www.hindscc.edu/calendar-event/spring-fest-nahc
LOCATION:Nursing Allied Health Center\, 1750 Chadwick Drive\, Jackson\, MS\, 39204\, United States
CATEGORIES:Standard
ATTACH;FMTTYPE=application/pdf:https://www.hindscc.edu/wp-content/uploads/2026/04/SPRING_FEST_NAH26.pdf
GEO:32.28699626082;-90.251331757419
X-APPLE-STRUCTURED-LOCATION;VALUE=URI;X-ADDRESS=Nursing Allied Health Center 1750 Chadwick Drive Jackson MS 39204 United States;X-APPLE-RADIUS=500;X-TITLE=1750 Chadwick Drive:geo:-90.251331757419,32.28699626082
END:VEVENT
BEGIN:VEVENT
DTSTART;VALUE=DATE:20260429
DTEND;VALUE=DATE:20260430
DTSTAMP:20260424T101546
CREATED:20260323T235927Z
LAST-MODIFIED:20260323T235927Z
UID:10003599-1777420800-1777507199@www.hindscc.edu
SUMMARY:Denim Day
DESCRIPTION:Help raise awareness about sexual assault and misconduct and wear Denim and Purple
URL:https://www.hindscc.edu/calendar-event/denim-day
LOCATION:Utica Campus\, 34175 Miss. 18 West\, Utica\, MS\, 39175\, United States
CATEGORIES:Current Students,Faculty & Staff,Standard
ATTACH;FMTTYPE=application/pdf:https://www.hindscc.edu/wp-content/uploads/2026/03/Denim-Day-Utica-2026.pdf
GEO:32.047053311277;-90.622913931058
X-APPLE-STRUCTURED-LOCATION;VALUE=URI;X-ADDRESS=Utica Campus 34175 Miss. 18 West Utica MS 39175 United States;X-APPLE-RADIUS=500;X-TITLE=34175 Miss. 18 West:geo:-90.622913931058,32.047053311277
END:VEVENT
BEGIN:VEVENT
DTSTART;TZID=America/Chicago:20260429T090000
DTEND;TZID=America/Chicago:20260429T120000
DTSTAMP:20260424T101546
CREATED:20260414T142934Z
LAST-MODIFIED:20260414T142934Z
UID:10004005-1777453200-1777464000@www.hindscc.edu
SUMMARY:Project Hope - Raymond Campus
DESCRIPTION:Join us for fun activities\, popcorn\, and learn methods to help manage stress.
URL:https://www.hindscc.edu/calendar-event/project-hope-raymond-campus
LOCATION:Raymond Campus\, 608 Hinds Blvd\, Raymond\, MS\, 39154\, United States
CATEGORIES:Standard
ATTACH;FMTTYPE=application/pdf:https://www.hindscc.edu/wp-content/uploads/2026/04/ProjectHope-Updated-Flyer-1.pdf
GEO:32.254909495787;-90.416673816829
X-APPLE-STRUCTURED-LOCATION;VALUE=URI;X-ADDRESS=Raymond Campus 608 Hinds Blvd Raymond MS 39154 United States;X-APPLE-RADIUS=500;X-TITLE=608 Hinds Blvd:geo:-90.416673816829,32.254909495787
END:VEVENT
END:VCALENDAR