
BEGIN:VCALENDAR
VERSION:2.0
PRODID:-//Hinds Community College - ECPv6.15.20//NONSGML v1.0//EN
CALSCALE:GREGORIAN
METHOD:PUBLISH
X-ORIGINAL-URL:https://www.hindscc.edu
X-WR-CALDESC:Events for Hinds Community College
REFRESH-INTERVAL;VALUE=DURATION:PT1H
X-Robots-Tag:noindex
X-PUBLISHED-TTL:PT1H
BEGIN:VTIMEZONE
TZID:America/Chicago
BEGIN:DAYLIGHT
TZOFFSETFROM:-0600
TZOFFSETTO:-0500
TZNAME:CDT
DTSTART:20250309T080000
END:DAYLIGHT
BEGIN:STANDARD
TZOFFSETFROM:-0500
TZOFFSETTO:-0600
TZNAME:CST
DTSTART:20251102T070000
END:STANDARD
BEGIN:DAYLIGHT
TZOFFSETFROM:-0600
TZOFFSETTO:-0500
TZNAME:CDT
DTSTART:20260308T080000
END:DAYLIGHT
BEGIN:STANDARD
TZOFFSETFROM:-0500
TZOFFSETTO:-0600
TZNAME:CST
DTSTART:20261101T070000
END:STANDARD
BEGIN:DAYLIGHT
TZOFFSETFROM:-0600
TZOFFSETTO:-0500
TZNAME:CDT
DTSTART:20270314T080000
END:DAYLIGHT
BEGIN:STANDARD
TZOFFSETFROM:-0500
TZOFFSETTO:-0600
TZNAME:CST
DTSTART:20271107T070000
END:STANDARD
END:VTIMEZONE
BEGIN:VEVENT
DTSTART;TZID=America/Chicago:20260422T120000
DTEND;TZID=America/Chicago:20260422T140000
DTSTAMP:20260422T042116
CREATED:20260402T223612Z
LAST-MODIFIED:20260402T223612Z
UID:10003627-1776859200-1776866400@www.hindscc.edu
SUMMARY:Spring Fest 2026 - Rankin Campus
DESCRIPTION:
URL:https://www.hindscc.edu/calendar-event/spring-fest-2026-rankin-campus/2026-04-22
LOCATION:Rankin Campus\, 3805 Highway 80 East\, Pearl\, MS\, 39208\, United States
CATEGORIES:Standard
ATTACH;FMTTYPE=application/pdf:https://www.hindscc.edu/wp-content/uploads/2026/04/SPRING_FEST_RKN26.pdf
GEO:32.280326439843;-90.088976142079
X-APPLE-STRUCTURED-LOCATION;VALUE=URI;X-ADDRESS=Rankin Campus 3805 Highway 80 East Pearl MS 39208 United States;X-APPLE-RADIUS=500;X-TITLE=3805 Highway 80 East:geo:-90.088976142079,32.280326439843
END:VEVENT
BEGIN:VEVENT
DTSTART;TZID=America/Chicago:20260423T120000
DTEND;TZID=America/Chicago:20260423T140000
DTSTAMP:20260422T042116
CREATED:20260402T223612Z
LAST-MODIFIED:20260402T223612Z
UID:10003628-1776945600-1776952800@www.hindscc.edu
SUMMARY:Spring Fest 2026 - Rankin Campus
DESCRIPTION:
URL:https://www.hindscc.edu/calendar-event/spring-fest-2026-rankin-campus/2026-04-23
LOCATION:Rankin Campus\, 3805 Highway 80 East\, Pearl\, MS\, 39208\, United States
CATEGORIES:Standard
ATTACH;FMTTYPE=application/pdf:https://www.hindscc.edu/wp-content/uploads/2026/04/SPRING_FEST_RKN26.pdf
GEO:32.280326439843;-90.088976142079
X-APPLE-STRUCTURED-LOCATION;VALUE=URI;X-ADDRESS=Rankin Campus 3805 Highway 80 East Pearl MS 39208 United States;X-APPLE-RADIUS=500;X-TITLE=3805 Highway 80 East:geo:-90.088976142079,32.280326439843
END:VEVENT
BEGIN:VEVENT
DTSTART;TZID=America/Chicago:20260425T090000
DTEND;TZID=America/Chicago:20260425T130000
DTSTAMP:20260422T042116
CREATED:20260324T151620Z
LAST-MODIFIED:20260324T151620Z
UID:10003612-1777107600-1777122000@www.hindscc.edu
SUMMARY:Utica Cheerleaders Tryouts
DESCRIPTION:This event is for cheer tryouts for the Utica campus cheerleaders.
URL:https://www.hindscc.edu/calendar-event/utica-cheerleaders-tryouts
LOCATION:Utica Campus\, 34175 Miss. 18 West\, Utica\, MS\, 39175\, United States
CATEGORIES:Standard
GEO:32.047053311277;-90.622913931058
X-APPLE-STRUCTURED-LOCATION;VALUE=URI;X-ADDRESS=Utica Campus 34175 Miss. 18 West Utica MS 39175 United States;X-APPLE-RADIUS=500;X-TITLE=34175 Miss. 18 West:geo:-90.622913931058,32.047053311277
END:VEVENT
BEGIN:VEVENT
DTSTART;TZID=America/Chicago:20260427T083000
DTEND;TZID=America/Chicago:20260427T123000
DTSTAMP:20260422T042116
CREATED:20260408T013945Z
LAST-MODIFIED:20260408T014346Z
UID:10003999-1777278600-1777293000@www.hindscc.edu
SUMMARY:Career Preparedness Training
DESCRIPTION:
URL:https://www.hindscc.edu/calendar-event/career-preparedness-training/2026-04-27
LOCATION:Rankin Campus\, 3805 Highway 80 East\, Pearl\, MS\, 39208\, United States
CATEGORIES:Standard
GEO:32.280326439843;-90.088976142079
X-APPLE-STRUCTURED-LOCATION;VALUE=URI;X-ADDRESS=Rankin Campus 3805 Highway 80 East Pearl MS 39208 United States;X-APPLE-RADIUS=500;X-TITLE=3805 Highway 80 East:geo:-90.088976142079,32.280326439843
END:VEVENT
BEGIN:VEVENT
DTSTART;TZID=America/Chicago:20260427T090000
DTEND;TZID=America/Chicago:20260427T120000
DTSTAMP:20260422T042116
CREATED:20260414T142858Z
LAST-MODIFIED:20260414T142858Z
UID:10004004-1777280400-1777291200@www.hindscc.edu
SUMMARY:Project Hope - Rankin Campus
DESCRIPTION:Join us for fun activities\, popcorn\, and learn methods to help manage stress.
URL:https://www.hindscc.edu/calendar-event/project-hope-rankin-campus
LOCATION:Rankin Campus\, 3805 Highway 80 East\, Pearl\, MS\, 39208\, United States
CATEGORIES:Standard
ATTACH;FMTTYPE=application/pdf:https://www.hindscc.edu/wp-content/uploads/2026/04/ProjectHope-Updated-Flyer-1.pdf
GEO:32.280326439843;-90.088976142079
X-APPLE-STRUCTURED-LOCATION;VALUE=URI;X-ADDRESS=Rankin Campus 3805 Highway 80 East Pearl MS 39208 United States;X-APPLE-RADIUS=500;X-TITLE=3805 Highway 80 East:geo:-90.088976142079,32.280326439843
END:VEVENT
BEGIN:VEVENT
DTSTART;TZID=America/Chicago:20260428T110000
DTEND;TZID=America/Chicago:20260428T130000
DTSTAMP:20260422T042116
CREATED:20260413T194537Z
LAST-MODIFIED:20260413T194537Z
UID:10004000-1777374000-1777381200@www.hindscc.edu
SUMMARY:Spring Fest - NAHC
DESCRIPTION:
URL:https://www.hindscc.edu/calendar-event/spring-fest-nahc
LOCATION:Nursing Allied Health Center\, 1750 Chadwick Drive\, Jackson\, MS\, 39204\, United States
CATEGORIES:Standard
ATTACH;FMTTYPE=application/pdf:https://www.hindscc.edu/wp-content/uploads/2026/04/SPRING_FEST_NAH26.pdf
GEO:32.28699626082;-90.251331757419
X-APPLE-STRUCTURED-LOCATION;VALUE=URI;X-ADDRESS=Nursing Allied Health Center 1750 Chadwick Drive Jackson MS 39204 United States;X-APPLE-RADIUS=500;X-TITLE=1750 Chadwick Drive:geo:-90.251331757419,32.28699626082
END:VEVENT
BEGIN:VEVENT
DTSTART;VALUE=DATE:20260429
DTEND;VALUE=DATE:20260430
DTSTAMP:20260422T042116
CREATED:20260323T235927Z
LAST-MODIFIED:20260323T235927Z
UID:10003599-1777420800-1777507199@www.hindscc.edu
SUMMARY:Denim Day
DESCRIPTION:Help raise awareness about sexual assault and misconduct and wear Denim and Purple
URL:https://www.hindscc.edu/calendar-event/denim-day
LOCATION:Utica Campus\, 34175 Miss. 18 West\, Utica\, MS\, 39175\, United States
CATEGORIES:Current Students,Faculty & Staff,Standard
ATTACH;FMTTYPE=application/pdf:https://www.hindscc.edu/wp-content/uploads/2026/03/Denim-Day-Utica-2026.pdf
GEO:32.047053311277;-90.622913931058
X-APPLE-STRUCTURED-LOCATION;VALUE=URI;X-ADDRESS=Utica Campus 34175 Miss. 18 West Utica MS 39175 United States;X-APPLE-RADIUS=500;X-TITLE=34175 Miss. 18 West:geo:-90.622913931058,32.047053311277
END:VEVENT
BEGIN:VEVENT
DTSTART;TZID=America/Chicago:20260429T090000
DTEND;TZID=America/Chicago:20260429T120000
DTSTAMP:20260422T042116
CREATED:20260414T142934Z
LAST-MODIFIED:20260414T142934Z
UID:10004005-1777453200-1777464000@www.hindscc.edu
SUMMARY:Project Hope - Raymond Campus
DESCRIPTION:Join us for fun activities\, popcorn\, and learn methods to help manage stress.
URL:https://www.hindscc.edu/calendar-event/project-hope-raymond-campus
LOCATION:Raymond Campus\, 608 Hinds Blvd\, Raymond\, MS\, 39154\, United States
CATEGORIES:Standard
ATTACH;FMTTYPE=application/pdf:https://www.hindscc.edu/wp-content/uploads/2026/04/ProjectHope-Updated-Flyer-1.pdf
GEO:32.254909495787;-90.416673816829
X-APPLE-STRUCTURED-LOCATION;VALUE=URI;X-ADDRESS=Raymond Campus 608 Hinds Blvd Raymond MS 39154 United States;X-APPLE-RADIUS=500;X-TITLE=608 Hinds Blvd:geo:-90.416673816829,32.254909495787
END:VEVENT
BEGIN:VEVENT
DTSTART;TZID=America/Chicago:20260501T103000
DTEND;TZID=America/Chicago:20260501T113000
DTSTAMP:20260422T042116
CREATED:20260303T151350Z
LAST-MODIFIED:20260303T153352Z
UID:10003592-1777631400-1777635000@www.hindscc.edu
SUMMARY:2026 PTK Spring Induction
DESCRIPTION:New members will be inducted into Phi Theta Kappa Honor Society for the Jackson Campus
URL:https://www.hindscc.edu/calendar-event/2026-ptk-spring-induction
LOCATION:Jackson Campus\, 3925 Sunset Drive\, Jackson\, MS\, 39213\, United States
GEO:32.346130406131;-90.223848553727
X-APPLE-STRUCTURED-LOCATION;VALUE=URI;X-ADDRESS=Jackson Campus 3925 Sunset Drive Jackson MS 39213 United States;X-APPLE-RADIUS=500;X-TITLE=3925 Sunset Drive:geo:-90.223848553727,32.346130406131
END:VEVENT
BEGIN:VEVENT
DTSTART;TZID=America/Chicago:20260515T083000
DTEND;TZID=America/Chicago:20260517T113000
DTSTAMP:20260422T042116
CREATED:20260220T164403Z
LAST-MODIFIED:20260324T161110Z
UID:10003586-1778833800-1779017400@www.hindscc.edu
SUMMARY:HCC ECEC Preschool Graduation
DESCRIPTION:This event will honor all of the children’s accomplishments throughout the year.
URL:https://www.hindscc.edu/calendar-event/hcc-ecec-preschool-graduation
LOCATION:Rankin Campus\, 3805 Highway 80 East\, Pearl\, MS\, 39208\, United States
CATEGORIES:Community
GEO:32.280326439843;-90.088976142079
X-APPLE-STRUCTURED-LOCATION;VALUE=URI;X-ADDRESS=Rankin Campus 3805 Highway 80 East Pearl MS 39208 United States;X-APPLE-RADIUS=500;X-TITLE=3805 Highway 80 East:geo:-90.088976142079,32.280326439843
END:VEVENT
BEGIN:VEVENT
DTSTART;TZID=America/Chicago:20260528T080000
DTEND;TZID=America/Chicago:20260528T150000
DTSTAMP:20260422T042116
CREATED:20260121T163704Z
LAST-MODIFIED:20260121T163704Z
UID:10003556-1779955200-1779980400@www.hindscc.edu
SUMMARY:Annual Athletic Golf Outing
DESCRIPTION:Annual golf outing to raise money for athletic projects. It will take place during the mid-morning of Thursday\, May 28\, at Eagle Ridge Lodge. The cost is $200 per team.
URL:https://www.hindscc.edu/calendar-event/annual-athletic-golf-outing
LOCATION:Eagle Ridge Golf Course\, Raymond Lake Road\, Raymond\, MS\, 39154\, United States
GEO:32.247042791247;-90.411170163193
X-APPLE-STRUCTURED-LOCATION;VALUE=URI;X-ADDRESS=Eagle Ridge Golf Course Raymond Lake Road Raymond MS 39154 United States;X-APPLE-RADIUS=500;X-TITLE=Raymond Lake Road:geo:-90.411170163193,32.247042791247
END:VEVENT
BEGIN:VEVENT
DTSTART;TZID=America/Chicago:20260606T070000
DTEND;TZID=America/Chicago:20260606T163000
DTSTAMP:20260422T042116
CREATED:20260324T151503Z
LAST-MODIFIED:20260324T151503Z
UID:10003611-1780729200-1780763400@www.hindscc.edu
SUMMARY:Hinds Kids Day Camp
DESCRIPTION:Basketball Camp for Boys and Girls Ages 7-13
URL:https://www.hindscc.edu/calendar-event/hinds-kids-day-camp
LOCATION:Utica Campus\, 34175 Miss. 18 West\, Utica\, MS\, 39175\, United States
CATEGORIES:Sports,Standard
GEO:32.047053311277;-90.622913931058
X-APPLE-STRUCTURED-LOCATION;VALUE=URI;X-ADDRESS=Utica Campus 34175 Miss. 18 West Utica MS 39175 United States;X-APPLE-RADIUS=500;X-TITLE=34175 Miss. 18 West:geo:-90.622913931058,32.047053311277
END:VEVENT
BEGIN:VEVENT
DTSTART;TZID=America/Chicago:20260609T083000
DTEND;TZID=America/Chicago:20260609T120000
DTSTAMP:20260422T042116
CREATED:20260324T003819Z
LAST-MODIFIED:20260324T003958Z
UID:10003600-1780993800-1781006400@www.hindscc.edu
SUMMARY:New Student Orientation - Raymond Campus
DESCRIPTION:New Student Orientation (NSO) is designed to help incoming students and their families start their Hinds Community College journey with confidence. During this half-day program\, students will learn about campus resources\, academic expectations\, and next steps for success. \n\n8:30 – Check-in\n9:00 – Welcome/start program\n9:30 – breakout sessions (parents in one session\, students in their own sessions with other students*)\n10:30 – Registration Mania
URL:https://www.hindscc.edu/calendar-event/new-student-orientation-raymond-campus
LOCATION:Raymond Campus\, 608 Hinds Blvd\, Raymond\, MS\, 39154\, United States
CATEGORIES:Current Students,Future Students,Standard
GEO:32.254909495787;-90.416673816829
X-APPLE-STRUCTURED-LOCATION;VALUE=URI;X-ADDRESS=Raymond Campus 608 Hinds Blvd Raymond MS 39154 United States;X-APPLE-RADIUS=500;X-TITLE=608 Hinds Blvd:geo:-90.416673816829,32.254909495787
END:VEVENT
BEGIN:VEVENT
DTSTART;VALUE=DATE:20260616
DTEND;VALUE=DATE:20260619
DTSTAMP:20260422T042116
CREATED:20250729T155208Z
LAST-MODIFIED:20250729T155208Z
UID:10003444-1781568000-1781827199@www.hindscc.edu
SUMMARY:Mississippi Wind Symphony hosted by the Hinds Band
DESCRIPTION:This is a continuation of a community effort to maintain connections with Hinds Alum\, area band directors\, and professional musicians in the community. Community Concert is at 7:30 p.m. on Thursday\, June 18.
URL:https://www.hindscc.edu/calendar-event/mississippi-wind-symphony-hosted-by-the-hinds-band
LOCATION:Raymond Campus\, 608 Hinds Blvd\, Raymond\, MS\, 39154\, United States
CATEGORIES:Fine & Performing Arts,Standard
GEO:32.254909495787;-90.416673816829
X-APPLE-STRUCTURED-LOCATION;VALUE=URI;X-ADDRESS=Raymond Campus 608 Hinds Blvd Raymond MS 39154 United States;X-APPLE-RADIUS=500;X-TITLE=608 Hinds Blvd:geo:-90.416673816829,32.254909495787
END:VEVENT
BEGIN:VEVENT
DTSTART;TZID=America/Chicago:20260623T083000
DTEND;TZID=America/Chicago:20260623T120000
DTSTAMP:20260422T042116
CREATED:20260324T004041Z
LAST-MODIFIED:20260324T004041Z
UID:10003602-1782203400-1782216000@www.hindscc.edu
SUMMARY:New Student Orientation - Raymond Campus
DESCRIPTION:New Student Orientation (NSO) is designed to help incoming students and their families start their Hinds Community College journey with confidence. During this half-day program\, students will learn about campus resources\, academic expectations\, and next steps for success. \n\n8:30 – Check-in\n9:00 – Welcome/start program\n9:30 – breakout sessions (parents in one session\, students in their own sessions with other students*)\n10:30 – Registration Mania
URL:https://www.hindscc.edu/calendar-event/new-student-orientation-raymond-campus-3
LOCATION:Raymond Campus\, 608 Hinds Blvd\, Raymond\, MS\, 39154\, United States
CATEGORIES:Current Students,Future Students,Standard
GEO:32.254909495787;-90.416673816829
X-APPLE-STRUCTURED-LOCATION;VALUE=URI;X-ADDRESS=Raymond Campus 608 Hinds Blvd Raymond MS 39154 United States;X-APPLE-RADIUS=500;X-TITLE=608 Hinds Blvd:geo:-90.416673816829,32.254909495787
END:VEVENT
BEGIN:VEVENT
DTSTART;TZID=America/Chicago:20260623T100000
DTEND;TZID=America/Chicago:20260623T113000
DTSTAMP:20260422T042116
CREATED:20260414T163240Z
LAST-MODIFIED:20260414T163240Z
UID:10004008-1782208800-1782214200@www.hindscc.edu
SUMMARY:2026 Adult Education Graduation
DESCRIPTION:Celebrate students who have completed their HSE and other program achievements.
URL:https://www.hindscc.edu/calendar-event/2026-adult-education-graduation
LOCATION:Rankin Campus\, 3805 Highway 80 East\, Pearl\, MS\, 39208\, United States
CATEGORIES:Graduation
GEO:32.280326439843;-90.088976142079
X-APPLE-STRUCTURED-LOCATION;VALUE=URI;X-ADDRESS=Rankin Campus 3805 Highway 80 East Pearl MS 39208 United States;X-APPLE-RADIUS=500;X-TITLE=3805 Highway 80 East:geo:-90.088976142079,32.280326439843
END:VEVENT
BEGIN:VEVENT
DTSTART;TZID=America/Chicago:20260625T070000
DTEND;TZID=America/Chicago:20260625T190000
DTSTAMP:20260422T042116
CREATED:20260324T004856Z
LAST-MODIFIED:20260324T004856Z
UID:10003609-1782370800-1782414000@www.hindscc.edu
SUMMARY:Hinds CC Team Basketball Camp
DESCRIPTION:Team basketball camp for high school. $175.00 per team.
URL:https://www.hindscc.edu/calendar-event/hinds-cc-team-basketball-camp
LOCATION:Utica Campus\, 34175 Miss. 18 West\, Utica\, MS\, 39175\, United States
CATEGORIES:Community,Future Students
GEO:32.047053311277;-90.622913931058
X-APPLE-STRUCTURED-LOCATION;VALUE=URI;X-ADDRESS=Utica Campus 34175 Miss. 18 West Utica MS 39175 United States;X-APPLE-RADIUS=500;X-TITLE=34175 Miss. 18 West:geo:-90.622913931058,32.047053311277
END:VEVENT
BEGIN:VEVENT
DTSTART;TZID=America/Chicago:20260707T083000
DTEND;TZID=America/Chicago:20260707T120000
DTSTAMP:20260422T042116
CREATED:20260324T004132Z
LAST-MODIFIED:20260324T004132Z
UID:10003603-1783413000-1783425600@www.hindscc.edu
SUMMARY:New Student Orientation - Raymond Campus
DESCRIPTION:New Student Orientation (NSO) is designed to help incoming students and their families start their Hinds Community College journey with confidence. During this half-day program\, students will learn about campus resources\, academic expectations\, and next steps for success. \n\n8:30 – Check-in\n9:00 – Welcome/start program\n9:30 – breakout sessions (parents in one session\, students in their own sessions with other students*)\n10:30 – Registration Mania
URL:https://www.hindscc.edu/calendar-event/new-student-orientation-raymond-campus-4
LOCATION:Raymond Campus\, 608 Hinds Blvd\, Raymond\, MS\, 39154\, United States
CATEGORIES:Current Students,Future Students,Standard
GEO:32.254909495787;-90.416673816829
X-APPLE-STRUCTURED-LOCATION;VALUE=URI;X-ADDRESS=Raymond Campus 608 Hinds Blvd Raymond MS 39154 United States;X-APPLE-RADIUS=500;X-TITLE=608 Hinds Blvd:geo:-90.416673816829,32.254909495787
END:VEVENT
BEGIN:VEVENT
DTSTART;TZID=America/Chicago:20260709T083000
DTEND;TZID=America/Chicago:20260709T120000
DTSTAMP:20260422T042116
CREATED:20260324T151343Z
LAST-MODIFIED:20260324T151343Z
UID:10003610-1783585800-1783598400@www.hindscc.edu
SUMMARY:New Student Orientation - Utica Campus
DESCRIPTION:New Student Orientation (NSO) is designed to help incoming students and their families start their Hinds Community College journey with confidence. During this half-day program\, students will learn about campus resources\, academic expectations\, and next steps for success. \n\n12:30 – Check-in\n1:00 – Welcome/start program\n1:30 – breakout sessions (parents in one session\, students in their own sessions with other students*)\n2:30 – Registration Mania
URL:https://www.hindscc.edu/calendar-event/new-student-orientation-utica-campus
LOCATION:Utica Campus\, 34175 Miss. 18 West\, Utica\, MS\, 39175\, United States
CATEGORIES:Current Students,Future Students,Standard
GEO:32.047053311277;-90.622913931058
X-APPLE-STRUCTURED-LOCATION;VALUE=URI;X-ADDRESS=Utica Campus 34175 Miss. 18 West Utica MS 39175 United States;X-APPLE-RADIUS=500;X-TITLE=34175 Miss. 18 West:geo:-90.622913931058,32.047053311277
END:VEVENT
BEGIN:VEVENT
DTSTART;VALUE=DATE:20260712
DTEND;VALUE=DATE:20260718
DTSTAMP:20260422T042116
CREATED:20260414T163140Z
LAST-MODIFIED:20260414T163140Z
UID:10004007-1783814400-1784332799@www.hindscc.edu
SUMMARY:TMCF SOAR HBCU Scholars Program
DESCRIPTION:Thurgood Marshall College Fund SOAR HBCU Scholars Program at Hinds Community College – Utica Campus is a week-long summer experience designed for high school seniors to explore college life\, develop leadership skills\, and prepare for their future. Through interactive workshops\, career exposure\, team projects\, and mentorship\, students gain valuable insight into academic and professional pathways. The program focuses on helping students identify their strengths\, build confidence\, and take intentional steps toward achieving their goals.
URL:https://www.hindscc.edu/calendar-event/tmcf-soar-hbcu-scholars-program
LOCATION:Utica Campus\, 34175 Miss. 18 West\, Utica\, MS\, 39175\, United States
CATEGORIES:Future Students,Standard
ATTACH;FMTTYPE=image/png:https://www.hindscc.edu/wp-content/uploads/2025/02/SOAR-Final-2.png
GEO:32.047053311277;-90.622913931058
X-APPLE-STRUCTURED-LOCATION;VALUE=URI;X-ADDRESS=Utica Campus 34175 Miss. 18 West Utica MS 39175 United States;X-APPLE-RADIUS=500;X-TITLE=34175 Miss. 18 West:geo:-90.622913931058,32.047053311277
END:VEVENT
BEGIN:VEVENT
DTSTART;TZID=America/Chicago:20260723T083000
DTEND;TZID=America/Chicago:20260723T120000
DTSTAMP:20260422T042116
CREATED:20260324T003934Z
LAST-MODIFIED:20260324T003934Z
UID:10003601-1784795400-1784808000@www.hindscc.edu
SUMMARY:New Student Orientation - Raymond Campus
DESCRIPTION:New Student Orientation (NSO) is designed to help incoming students and their families start their Hinds Community College journey with confidence. During this half-day program\, students will learn about campus resources\, academic expectations\, and next steps for success. \n\n8:30 – Check-in\n9:00 – Welcome/start program\n9:30 – breakout sessions (parents in one session\, students in their own sessions with other students*)\n10:30 – Registration Mania
URL:https://www.hindscc.edu/calendar-event/new-student-orientation-raymond-campus-2
LOCATION:Raymond Campus\, 608 Hinds Blvd\, Raymond\, MS\, 39154\, United States
CATEGORIES:Current Students,Future Students,Standard
GEO:32.254909495787;-90.416673816829
X-APPLE-STRUCTURED-LOCATION;VALUE=URI;X-ADDRESS=Raymond Campus 608 Hinds Blvd Raymond MS 39154 United States;X-APPLE-RADIUS=500;X-TITLE=608 Hinds Blvd:geo:-90.416673816829,32.254909495787
END:VEVENT
BEGIN:VEVENT
DTSTART;TZID=America/Chicago:20260728T083000
DTEND;TZID=America/Chicago:20260728T120000
DTSTAMP:20260422T042116
CREATED:20260324T004255Z
LAST-MODIFIED:20260324T004255Z
UID:10003605-1785227400-1785240000@www.hindscc.edu
SUMMARY:New Student Orientation - Rankin Campus
DESCRIPTION:New Student Orientation (NSO) is designed to help incoming students and their families start their Hinds Community College journey with confidence. During this half-day program\, students will learn about campus resources\, academic expectations\, and next steps for success. \n\n8:30 – Check-in\n9:00 – Welcome/start program\n9:30 – breakout sessions (parents in one session\, students in their own sessions with other students*)\n10:30 – Registration Mania
URL:https://www.hindscc.edu/calendar-event/new-student-orientation-rankin-campus
LOCATION:Rankin Campus\, 3805 Highway 80 East\, Pearl\, MS\, 39208\, United States
CATEGORIES:Current Students,Future Students,Standard
GEO:32.280326439843;-90.088976142079
X-APPLE-STRUCTURED-LOCATION;VALUE=URI;X-ADDRESS=Rankin Campus 3805 Highway 80 East Pearl MS 39208 United States;X-APPLE-RADIUS=500;X-TITLE=3805 Highway 80 East:geo:-90.088976142079,32.280326439843
END:VEVENT
BEGIN:VEVENT
DTSTART;TZID=America/Chicago:20260729T083000
DTEND;TZID=America/Chicago:20260729T120000
DTSTAMP:20260422T042116
CREATED:20260324T004216Z
LAST-MODIFIED:20260324T004216Z
UID:10003604-1785313800-1785326400@www.hindscc.edu
SUMMARY:New Student Orientation - Vicksburg Campus
DESCRIPTION:New Student Orientation (NSO) is designed to help incoming students and their families start their Hinds Community College journey with confidence. During this half-day program\, students will learn about campus resources\, academic expectations\, and next steps for success. \n\n8:30 – Check-in\n9:00 – Welcome/start program\n9:30 – breakout sessions (parents in one session\, students in their own sessions with other students*)\n10:30 – Registration Mania
URL:https://www.hindscc.edu/calendar-event/new-student-orientation-vicksburg-campus
LOCATION:Vicksburg-Warren Campus\, 755 Highway 27\, Vicksburg\, MS\, 39180\, United States
CATEGORIES:Current Students,Future Students,Standard
GEO:32.333131765482;-90.824596828583
X-APPLE-STRUCTURED-LOCATION;VALUE=URI;X-ADDRESS=Vicksburg-Warren Campus 755 Highway 27 Vicksburg MS 39180 United States;X-APPLE-RADIUS=500;X-TITLE=755 Highway 27:geo:-90.824596828583,32.333131765482
END:VEVENT
BEGIN:VEVENT
DTSTART;TZID=America/Chicago:20260729T083000
DTEND;TZID=America/Chicago:20260729T120000
DTSTAMP:20260422T042116
CREATED:20260324T004341Z
LAST-MODIFIED:20260324T004341Z
UID:10003606-1785313800-1785326400@www.hindscc.edu
SUMMARY:New Student Orientation - Jackson Campus
DESCRIPTION:New Student Orientation (NSO) is designed to help incoming students and their families start their Hinds Community College journey with confidence. During this half-day program\, students will learn about campus resources\, academic expectations\, and next steps for success. \n\n8:30 – Check-in\n9:00 – Welcome/start program\n9:30 – breakout sessions (parents in one session\, students in their own sessions with other students*)\n10:30 – Registration Mania
URL:https://www.hindscc.edu/calendar-event/new-student-orientation-jackson-campus
LOCATION:Jackson Campus\, 3925 Sunset Drive\, Jackson\, MS\, 39213\, United States
CATEGORIES:Current Students,Future Students,Standard
GEO:32.346130406131;-90.223848553727
X-APPLE-STRUCTURED-LOCATION;VALUE=URI;X-ADDRESS=Jackson Campus 3925 Sunset Drive Jackson MS 39213 United States;X-APPLE-RADIUS=500;X-TITLE=3925 Sunset Drive:geo:-90.223848553727,32.346130406131
END:VEVENT
BEGIN:VEVENT
DTSTART;TZID=America/Chicago:20260815T070000
DTEND;TZID=America/Chicago:20260815T163000
DTSTAMP:20260422T042116
CREATED:20260324T004605Z
LAST-MODIFIED:20260324T004605Z
UID:10003608-1786777200-1786811400@www.hindscc.edu
SUMMARY:Hinds CC Basketball Elite Camp
DESCRIPTION:Basketball Camp for Freshman\, Sophomore\, Juniors and Seniors in local high schools in the area
URL:https://www.hindscc.edu/calendar-event/hinds-cc-basketball-elite-camp
LOCATION:Utica Campus\, 34175 Miss. 18 West\, Utica\, MS\, 39175\, United States
CATEGORIES:Future Students
GEO:32.047053311277;-90.622913931058
X-APPLE-STRUCTURED-LOCATION;VALUE=URI;X-ADDRESS=Utica Campus 34175 Miss. 18 West Utica MS 39175 United States;X-APPLE-RADIUS=500;X-TITLE=34175 Miss. 18 West:geo:-90.622913931058,32.047053311277
END:VEVENT
BEGIN:VEVENT
DTSTART;TZID=America/Chicago:20260910T060000
DTEND;TZID=America/Chicago:20260910T200000
DTSTAMP:20260422T042116
CREATED:20260121T164415Z
LAST-MODIFIED:20260121T164415Z
UID:10003560-1789020000-1789070400@www.hindscc.edu
SUMMARY:39th Annual Golf Fun Fest
DESCRIPTION:More details coming soon.
URL:https://www.hindscc.edu/calendar-event/39th-annual-golf-fun-fest
LOCATION:Eagle Ridge Golf Course\, Raymond Lake Road\, Raymond\, MS\, 39154\, United States
GEO:32.247042791247;-90.411170163193
X-APPLE-STRUCTURED-LOCATION;VALUE=URI;X-ADDRESS=Eagle Ridge Golf Course Raymond Lake Road Raymond MS 39154 United States;X-APPLE-RADIUS=500;X-TITLE=Raymond Lake Road:geo:-90.411170163193,32.247042791247
END:VEVENT
BEGIN:VEVENT
DTSTART;TZID=America/Chicago:20260925T080000
DTEND;TZID=America/Chicago:20260925T123000
DTSTAMP:20260422T042116
CREATED:20260402T151538Z
LAST-MODIFIED:20260402T151538Z
UID:10003624-1790323200-1790339400@www.hindscc.edu
SUMMARY:HCC Foundation Scholarship Recognition Reception
DESCRIPTION:Scholarship reception to recognize and celebrate our donors and students.
URL:https://www.hindscc.edu/calendar-event/hcc-foundation-scholarship-recognition-reception-2
LOCATION:Rankin Campus\, 3805 Highway 80 East\, Pearl\, MS\, 39208\, United States
CATEGORIES:Current Students,Standard
GEO:32.280326439843;-90.088976142079
X-APPLE-STRUCTURED-LOCATION;VALUE=URI;X-ADDRESS=Rankin Campus 3805 Highway 80 East Pearl MS 39208 United States;X-APPLE-RADIUS=500;X-TITLE=3805 Highway 80 East:geo:-90.088976142079,32.280326439843
END:VEVENT
BEGIN:VEVENT
DTSTART;TZID=America/Chicago:20261006T080000
DTEND;TZID=America/Chicago:20261006T130000
DTSTAMP:20260422T042116
CREATED:20260324T152117Z
LAST-MODIFIED:20260324T152117Z
UID:10003615-1791273600-1791291600@www.hindscc.edu
SUMMARY:50+ Reunion & Luncheon
DESCRIPTION:Reunion for Alumni who have graduated 50 or more years ago.
URL:https://www.hindscc.edu/calendar-event/50-reunion-luncheon
LOCATION:Raymond Campus\, 608 Hinds Blvd\, Raymond\, MS\, 39154\, United States
CATEGORIES:Alumni
GEO:32.254909495787;-90.416673816829
X-APPLE-STRUCTURED-LOCATION;VALUE=URI;X-ADDRESS=Raymond Campus 608 Hinds Blvd Raymond MS 39154 United States;X-APPLE-RADIUS=500;X-TITLE=608 Hinds Blvd:geo:-90.416673816829,32.254909495787
END:VEVENT
BEGIN:VEVENT
DTSTART;TZID=America/Chicago:20261008T150000
DTEND;TZID=America/Chicago:20261008T190000
DTSTAMP:20260422T042116
CREATED:20260324T151954Z
LAST-MODIFIED:20260324T151954Z
UID:10003614-1791471600-1791486000@www.hindscc.edu
SUMMARY:Alumni Recognition Event
DESCRIPTION:Honor Sports Hall of Fame and Alumni Award recipients.
URL:https://www.hindscc.edu/calendar-event/alumni-recognition-event-2
LOCATION:Raymond Campus\, 608 Hinds Blvd\, Raymond\, MS\, 39154\, United States
CATEGORIES:Alumni,Standard
GEO:32.254909495787;-90.416673816829
X-APPLE-STRUCTURED-LOCATION;VALUE=URI;X-ADDRESS=Raymond Campus 608 Hinds Blvd Raymond MS 39154 United States;X-APPLE-RADIUS=500;X-TITLE=608 Hinds Blvd:geo:-90.416673816829,32.254909495787
END:VEVENT
BEGIN:VEVENT
DTSTART;TZID=America/Chicago:20261028T110000
DTEND;TZID=America/Chicago:20261028T180000
DTSTAMP:20260422T042116
CREATED:20260331T171620Z
LAST-MODIFIED:20260331T171620Z
UID:10003619-1793185200-1793210400@www.hindscc.edu
SUMMARY:Clyde Donnell & Othel Mendrop Memorial Golf Tournament
DESCRIPTION:Fundraiser put on by the Warren-Claiborne County Alumni Chapter to raise money for the chapter and the Donnell/Mendrop Scholarship. \n\nPlayer – $85 (includes 2 mulligans)\nTeam Sponsor – $340 (4 players)\nHole Sponsor – $100 (no players)
URL:https://www.hindscc.edu/calendar-event/clyde-donnell-othel-mendrop-memorial-golf-tournament
LOCATION:Vicksburg-Warren Campus\, 755 Highway 27\, Vicksburg\, MS\, 39180\, United States
CATEGORIES:Alumni,Community,Default Layout,Faculty & Staff
GEO:32.333131765482;-90.824596828583
X-APPLE-STRUCTURED-LOCATION;VALUE=URI;X-ADDRESS=Vicksburg-Warren Campus 755 Highway 27 Vicksburg MS 39180 United States;X-APPLE-RADIUS=500;X-TITLE=755 Highway 27:geo:-90.824596828583,32.333131765482
END:VEVENT
END:VCALENDAR