
BEGIN:VCALENDAR
VERSION:2.0
PRODID:-//Hinds Community College - ECPv6.15.20//NONSGML v1.0//EN
CALSCALE:GREGORIAN
METHOD:PUBLISH
X-ORIGINAL-URL:https://www.hindscc.edu
X-WR-CALDESC:Events for Hinds Community College
REFRESH-INTERVAL;VALUE=DURATION:PT1H
X-Robots-Tag:noindex
X-PUBLISHED-TTL:PT1H
BEGIN:VTIMEZONE
TZID:America/Chicago
BEGIN:DAYLIGHT
TZOFFSETFROM:-0600
TZOFFSETTO:-0500
TZNAME:CDT
DTSTART:20250309T080000
END:DAYLIGHT
BEGIN:STANDARD
TZOFFSETFROM:-0500
TZOFFSETTO:-0600
TZNAME:CST
DTSTART:20251102T070000
END:STANDARD
BEGIN:DAYLIGHT
TZOFFSETFROM:-0600
TZOFFSETTO:-0500
TZNAME:CDT
DTSTART:20260308T080000
END:DAYLIGHT
BEGIN:STANDARD
TZOFFSETFROM:-0500
TZOFFSETTO:-0600
TZNAME:CST
DTSTART:20261101T070000
END:STANDARD
BEGIN:DAYLIGHT
TZOFFSETFROM:-0600
TZOFFSETTO:-0500
TZNAME:CDT
DTSTART:20270314T080000
END:DAYLIGHT
BEGIN:STANDARD
TZOFFSETFROM:-0500
TZOFFSETTO:-0600
TZNAME:CST
DTSTART:20271107T070000
END:STANDARD
END:VTIMEZONE
BEGIN:VEVENT
DTSTART;TZID=America/Chicago:20260319T183000
DTEND;TZID=America/Chicago:20260319T203000
DTSTAMP:20260425T054149
CREATED:20250824T045116Z
LAST-MODIFIED:20260205T170810Z
UID:10003474-1773945000-1773952200@www.hindscc.edu
SUMMARY:Guard and Hi-Stepper Showcase
DESCRIPTION:This aligns with the Spring classes for the groups provided. It is an opportunity for the students to perform and showcase their work from the semester.
URL:https://www.hindscc.edu/calendar-event/guard-and-hi-stepper-showcase
LOCATION:Rankin Campus\, 3805 Highway 80 East\, Pearl\, MS\, 39208\, United States
CATEGORIES:Dance Performance,Sports,Standard
ATTACH;FMTTYPE=application/pdf:https://www.hindscc.edu/wp-content/uploads/2025/08/Guard-and-hi-stepper-2.pdf
GEO:32.280326439843;-90.088976142079
X-APPLE-STRUCTURED-LOCATION;VALUE=URI;X-ADDRESS=Rankin Campus 3805 Highway 80 East Pearl MS 39208 United States;X-APPLE-RADIUS=500;X-TITLE=3805 Highway 80 East:geo:-90.088976142079,32.280326439843
END:VEVENT
BEGIN:VEVENT
DTSTART;TZID=America/Chicago:20260323T090000
DTEND;TZID=America/Chicago:20260323T120000
DTSTAMP:20260425T054149
CREATED:20260223T153725Z
LAST-MODIFIED:20260223T153733Z
UID:10003587-1774256400-1774267200@www.hindscc.edu
SUMMARY:Knot Your Average Study Group
DESCRIPTION:Come hang out at the Vicksburg Student Success Center for a morning of creativity and collaboration. We’re making friendship bracelets and building the ultimate study squads!
URL:https://www.hindscc.edu/calendar-event/knot-your-average-study-group
LOCATION:Vicksburg-Warren Campus\, 755 Highway 27\, Vicksburg\, MS\, 39180\, United States
CATEGORIES:Current Students,Standard
ATTACH;FMTTYPE=application/pdf:https://www.hindscc.edu/wp-content/uploads/2026/02/Knot-Your-Average-Study-Group-w-Branding-Files.pdf
GEO:32.333131765482;-90.824596828583
X-APPLE-STRUCTURED-LOCATION;VALUE=URI;X-ADDRESS=Vicksburg-Warren Campus 755 Highway 27 Vicksburg MS 39180 United States;X-APPLE-RADIUS=500;X-TITLE=755 Highway 27:geo:-90.824596828583,32.333131765482
END:VEVENT
BEGIN:VEVENT
DTSTART;TZID=America/Chicago:20260323T150000
DTEND;TZID=America/Chicago:20260323T160000
DTSTAMP:20260425T054149
CREATED:20250616T152246Z
LAST-MODIFIED:20250616T152246Z
UID:10003429-1774278000-1774281600@www.hindscc.edu
SUMMARY:Phi Theta Kappa Spring Induction
DESCRIPTION:This event is a ceremony to induct new Hinds students that have joined PTK Gamma Lambda Chapter
URL:https://www.hindscc.edu/calendar-event/phi-theta-kappa-spring-induction
LOCATION:Raymond Campus\, 608 Hinds Blvd\, Raymond\, MS\, 39154\, United States
CATEGORIES:Standard
GEO:32.254909495787;-90.416673816829
X-APPLE-STRUCTURED-LOCATION;VALUE=URI;X-ADDRESS=Raymond Campus 608 Hinds Blvd Raymond MS 39154 United States;X-APPLE-RADIUS=500;X-TITLE=608 Hinds Blvd:geo:-90.416673816829,32.254909495787
END:VEVENT
BEGIN:VEVENT
DTSTART;TZID=America/Chicago:20260325T080000
DTEND;TZID=America/Chicago:20260325T110000
DTSTAMP:20260425T054149
CREATED:20260220T161445Z
LAST-MODIFIED:20260220T161521Z
UID:10003584-1774425600-1774436400@www.hindscc.edu
SUMMARY:Graduation Application Days
DESCRIPTION:Stop by the Student Success Center for one-on-one help completing your Graduation Application. We’re here to answer your questions and get you ready for the big stage!
URL:https://www.hindscc.edu/calendar-event/graduation-application-days/2026-03-25
LOCATION:Raymond Campus\, 608 Hinds Blvd\, Raymond\, MS\, 39154\, United States
CATEGORIES:Current Students,Standard
ATTACH;FMTTYPE=application/pdf:https://www.hindscc.edu/wp-content/uploads/2026/02/Graduation-Application-Days-flyer.pdf
GEO:32.254909495787;-90.416673816829
X-APPLE-STRUCTURED-LOCATION;VALUE=URI;X-ADDRESS=Raymond Campus 608 Hinds Blvd Raymond MS 39154 United States;X-APPLE-RADIUS=500;X-TITLE=608 Hinds Blvd:geo:-90.416673816829,32.254909495787
END:VEVENT
BEGIN:VEVENT
DTSTART;TZID=America/Chicago:20260325T140000
DTEND;TZID=America/Chicago:20260325T150000
DTSTAMP:20260425T054149
CREATED:20251212T162153Z
LAST-MODIFIED:20251212T162153Z
UID:10003535-1774447200-1774450800@www.hindscc.edu
SUMMARY:Digital Literacy
DESCRIPTION:
URL:https://www.hindscc.edu/calendar-event/digital-literacy/2026-03-25
LOCATION:Rankin Campus\, 3805 Highway 80 East\, Pearl\, MS\, 39208\, United States
CATEGORIES:Community,Standard,Training
GEO:32.280326439843;-90.088976142079
X-APPLE-STRUCTURED-LOCATION;VALUE=URI;X-ADDRESS=Rankin Campus 3805 Highway 80 East Pearl MS 39208 United States;X-APPLE-RADIUS=500;X-TITLE=3805 Highway 80 East:geo:-90.088976142079,32.280326439843
END:VEVENT
BEGIN:VEVENT
DTSTART;VALUE=DATE:20260326
DTEND;VALUE=DATE:20260327
DTSTAMP:20260425T054149
CREATED:20260211T185622Z
LAST-MODIFIED:20260211T185629Z
UID:10003578-1774483200-1774569599@www.hindscc.edu
SUMMARY:Aspiring Educators Conference and Praxis Workshop
DESCRIPTION:Student voice & listening sessions\nPraxis prep workshops on\n\nBiology\nEnglish\nSpecial Education\nMath\nElementary Education
URL:https://www.hindscc.edu/calendar-event/aspiring-educators-conference-and-praxis-workshop
LOCATION:Utica Campus\, 34175 Miss. 18 West\, Utica\, MS\, 39175\, United States
CATEGORIES:Standard
ATTACH;FMTTYPE=application/pdf:https://www.hindscc.edu/wp-content/uploads/2026/02/MAE-Save-the-Date-Flyer.pdf
GEO:32.047053311277;-90.622913931058
X-APPLE-STRUCTURED-LOCATION;VALUE=URI;X-ADDRESS=Utica Campus 34175 Miss. 18 West Utica MS 39175 United States;X-APPLE-RADIUS=500;X-TITLE=34175 Miss. 18 West:geo:-90.622913931058,32.047053311277
END:VEVENT
BEGIN:VEVENT
DTSTART;TZID=America/Chicago:20260326T183000
DTEND;TZID=America/Chicago:20260326T210000
DTSTAMP:20260425T054149
CREATED:20250624T021626Z
LAST-MODIFIED:20260225T221957Z
UID:10003436-1774549800-1774558800@www.hindscc.edu
SUMMARY:Spring Band Concert No. 1
DESCRIPTION:The annual Spring Band Concert No. 1 will feature our concert band and wind ensemble showcasing student work through various styles of literature.
URL:https://www.hindscc.edu/calendar-event/spring-band-concert-no-1
LOCATION:Raymond Campus\, 608 Hinds Blvd\, Raymond\, MS\, 39154\, United States
CATEGORIES:Standard
ATTACH;FMTTYPE=application/pdf:https://www.hindscc.edu/wp-content/uploads/2025/06/2026-Hinds-Band-Spring-Concert-No.-1-11-x-8.5-in.pdf
GEO:32.254909495787;-90.416673816829
X-APPLE-STRUCTURED-LOCATION;VALUE=URI;X-ADDRESS=Raymond Campus 608 Hinds Blvd Raymond MS 39154 United States;X-APPLE-RADIUS=500;X-TITLE=608 Hinds Blvd:geo:-90.416673816829,32.254909495787
END:VEVENT
BEGIN:VEVENT
DTSTART;TZID=America/Chicago:20260331T080000
DTEND;TZID=America/Chicago:20260331T120000
DTSTAMP:20260425T054149
CREATED:20250811T175141Z
LAST-MODIFIED:20250918T160132Z
UID:10003450-1774944000-1774958400@www.hindscc.edu
SUMMARY:Rankin County School District and Hinds CC Career Expo
DESCRIPTION:The Rankin County School District (RCSD) and Hinds CC have partnered to bring a career expo to all 8 RCSD Schools. The expo consists of local industry vendors and many of Hinds CC Career/Tech programs.
URL:https://www.hindscc.edu/calendar-event/rankin-county-school-district-and-hinds-cc-career-expo
LOCATION:Rankin Campus\, 3805 Highway 80 East\, Pearl\, MS\, 39208\, United States
CATEGORIES:Future Students,Standard
GEO:32.280326439843;-90.088976142079
X-APPLE-STRUCTURED-LOCATION;VALUE=URI;X-ADDRESS=Rankin Campus 3805 Highway 80 East Pearl MS 39208 United States;X-APPLE-RADIUS=500;X-TITLE=3805 Highway 80 East:geo:-90.088976142079,32.280326439843
END:VEVENT
BEGIN:VEVENT
DTSTART;VALUE=DATE:20260401
DTEND;VALUE=DATE:20260402
DTSTAMP:20260425T054149
CREATED:20260323T235050Z
LAST-MODIFIED:20260323T235716Z
UID:10003598-1775001600-1775087999@www.hindscc.edu
SUMMARY:Denim and Maroon Day
DESCRIPTION:Wear Denim and Maroon to help raise awareness about sexual misconduct
URL:https://www.hindscc.edu/calendar-event/denim-and-maroon-day
LOCATION:Jackson Campus\, 3925 Sunset Drive\, Jackson\, MS\, 39213\, United States
CATEGORIES:Current Students,Faculty & Staff,Standard
ATTACH;FMTTYPE=application/pdf:https://www.hindscc.edu/wp-content/uploads/2026/03/Denim-and-Maroon-Day-Jackson-2026.pdf
GEO:32.346130406131;-90.223848553727
X-APPLE-STRUCTURED-LOCATION;VALUE=URI;X-ADDRESS=Jackson Campus 3925 Sunset Drive Jackson MS 39213 United States;X-APPLE-RADIUS=500;X-TITLE=3925 Sunset Drive:geo:-90.223848553727,32.346130406131
END:VEVENT
BEGIN:VEVENT
DTSTART;TZID=America/Chicago:20260401T120000
DTEND;TZID=America/Chicago:20260401T160000
DTSTAMP:20260425T054150
CREATED:20260331T171107Z
LAST-MODIFIED:20260331T171107Z
UID:10003617-1775044800-1775059200@www.hindscc.edu
SUMMARY:MS Blood Services Blood Drive
DESCRIPTION:Hinds Community College is hosting an upcoming blood drive at the Raymond Campus\, and your contribution can make a life-saving difference. Donating blood is a simple yet powerful way to support local hospitals and patients in need. Whether you are a first-time donor or a regular supporter\, your generosity helps ensure that our community has a stable and ready blood supply.
URL:https://www.hindscc.edu/calendar-event/ms-blood-services-blood-drive
LOCATION:Raymond Campus\, 608 Hinds Blvd\, Raymond\, MS\, 39154\, United States
CATEGORIES:Current Students,Faculty & Staff,Standard
GEO:32.254909495787;-90.416673816829
X-APPLE-STRUCTURED-LOCATION;VALUE=URI;X-ADDRESS=Raymond Campus 608 Hinds Blvd Raymond MS 39154 United States;X-APPLE-RADIUS=500;X-TITLE=608 Hinds Blvd:geo:-90.416673816829,32.254909495787
END:VEVENT
BEGIN:VEVENT
DTSTART;TZID=America/Chicago:20260402T183000
DTEND;TZID=America/Chicago:20260402T210000
DTSTAMP:20260425T054150
CREATED:20250624T021722Z
LAST-MODIFIED:20260304T204743Z
UID:10003437-1775154600-1775163600@www.hindscc.edu
SUMMARY:Spring Choir Concert
DESCRIPTION:The annual spring choir concert will showcase student work through various vocal ensembles.
URL:https://www.hindscc.edu/calendar-event/spring-choir-concert
LOCATION:Raymond Campus\, 608 Hinds Blvd\, Raymond\, MS\, 39154\, United States
CATEGORIES:Standard
ATTACH;FMTTYPE=application/pdf:https://www.hindscc.edu/wp-content/uploads/2025/06/Choirs-Spring-Concert-PosterRF.pdf
GEO:32.254909495787;-90.416673816829
X-APPLE-STRUCTURED-LOCATION;VALUE=URI;X-ADDRESS=Raymond Campus 608 Hinds Blvd Raymond MS 39154 United States;X-APPLE-RADIUS=500;X-TITLE=608 Hinds Blvd:geo:-90.416673816829,32.254909495787
END:VEVENT
BEGIN:VEVENT
DTSTART;TZID=America/Chicago:20260405T103000
DTEND;TZID=America/Chicago:20260405T133000
DTSTAMP:20260425T054150
CREATED:20260127T200229Z
LAST-MODIFIED:20260330T153435Z
UID:10003547-1775385000-1775395800@www.hindscc.edu
SUMMARY:Sunday Brunch
DESCRIPTION:Join us for Sunday Brunch on the 5th of April at HCC main Raymond campus in the dining hall. \nMenu:\nClassics \n\nFried and baked ChickenCollard GreensCorn on the CobMashed Potatoes/GravyLima BeansMac and CheeseDinner Roll \nGlobal\nShrimp and GritsBrussel Sprouts with BaconRoasted Baby CarrotsCorn Bread \nPizza – Salad Bar – Assorted Desserts
URL:https://www.hindscc.edu/calendar-event/sunday-brunch-2
LOCATION:Raymond Campus\, 608 Hinds Blvd\, Raymond\, MS\, 39154\, United States
CATEGORIES:Community,Standard
ATTACH;FMTTYPE=application/pdf:https://www.hindscc.edu/wp-content/uploads/2026/01/Eliior-APRIL-EasterBRUNCH8.5x11flyer2026.pdf
GEO:32.254909495787;-90.416673816829
X-APPLE-STRUCTURED-LOCATION;VALUE=URI;X-ADDRESS=Raymond Campus 608 Hinds Blvd Raymond MS 39154 United States;X-APPLE-RADIUS=500;X-TITLE=608 Hinds Blvd:geo:-90.416673816829,32.254909495787
END:VEVENT
BEGIN:VEVENT
DTSTART;TZID=America/Chicago:20260406T083000
DTEND;TZID=America/Chicago:20260410T120000
DTSTAMP:20260425T054150
CREATED:20260401T212048Z
LAST-MODIFIED:20260401T212048Z
UID:10003620-1775464200-1775822400@www.hindscc.edu
SUMMARY:Spring Fest 2026 - Utica Campus
DESCRIPTION:
URL:https://www.hindscc.edu/calendar-event/spring-fest-2026-utica-campus
LOCATION:Utica Campus\, 34175 Miss. 18 West\, Utica\, MS\, 39175\, United States
CATEGORIES:Current Students,Standard
ATTACH;FMTTYPE=application/pdf:https://www.hindscc.edu/wp-content/uploads/2026/04/SPRING_FEST_UT26.pdf
GEO:32.047053311277;-90.622913931058
X-APPLE-STRUCTURED-LOCATION;VALUE=URI;X-ADDRESS=Utica Campus 34175 Miss. 18 West Utica MS 39175 United States;X-APPLE-RADIUS=500;X-TITLE=34175 Miss. 18 West:geo:-90.622913931058,32.047053311277
END:VEVENT
BEGIN:VEVENT
DTSTART;TZID=America/Chicago:20260409T103000
DTEND;TZID=America/Chicago:20260409T123000
DTSTAMP:20260425T054150
CREATED:20250729T154544Z
LAST-MODIFIED:20260326T135240Z
UID:10003442-1775730600-1775737800@www.hindscc.edu
SUMMARY:Alpha Beta Chapter of PTK Spring 2026 Induction - Utica
DESCRIPTION:The purpose of this event is to Induct Spring 2026 new members.
URL:https://www.hindscc.edu/calendar-event/alpha-beta-chapter-of-ptk-spring-2026-induction-utica
LOCATION:Utica Campus\, 34175 Miss. 18 West\, Utica\, MS\, 39175\, United States
CATEGORIES:Standard
GEO:32.047053311277;-90.622913931058
X-APPLE-STRUCTURED-LOCATION;VALUE=URI;X-ADDRESS=Utica Campus 34175 Miss. 18 West Utica MS 39175 United States;X-APPLE-RADIUS=500;X-TITLE=34175 Miss. 18 West:geo:-90.622913931058,32.047053311277
END:VEVENT
BEGIN:VEVENT
DTSTART;TZID=America/Chicago:20260409T120000
DTEND;TZID=America/Chicago:20260409T160000
DTSTAMP:20260425T054150
CREATED:20260408T013945Z
LAST-MODIFIED:20260408T014346Z
UID:10003994-1775736000-1775750400@www.hindscc.edu
SUMMARY:Career Preparedness Training
DESCRIPTION:
URL:https://www.hindscc.edu/calendar-event/career-preparedness-training/2026-04-09
LOCATION:Rankin Campus\, 3805 Highway 80 East\, Pearl\, MS\, 39208\, United States
CATEGORIES:Standard
GEO:32.280326439843;-90.088976142079
X-APPLE-STRUCTURED-LOCATION;VALUE=URI;X-ADDRESS=Rankin Campus 3805 Highway 80 East Pearl MS 39208 United States;X-APPLE-RADIUS=500;X-TITLE=3805 Highway 80 East:geo:-90.088976142079,32.280326439843
END:VEVENT
BEGIN:VEVENT
DTSTART;TZID=America/Chicago:20260409T183000
DTEND;TZID=America/Chicago:20260409T213000
DTSTAMP:20260425T054150
CREATED:20250918T160448Z
LAST-MODIFIED:20260330T175812Z
UID:10003501-1775759400-1775770200@www.hindscc.edu
SUMMARY:Junior College Musical
DESCRIPTION:
URL:https://www.hindscc.edu/calendar-event/junior-college-musical
LOCATION:Raymond Campus\, 608 Hinds Blvd\, Raymond\, MS\, 39154\, United States
CATEGORIES:Standard
ATTACH;FMTTYPE=application/pdf:https://www.hindscc.edu/wp-content/uploads/2025/09/Junior-College-Musical-PosterPRINT.pdf
GEO:32.254909495787;-90.416673816829
X-APPLE-STRUCTURED-LOCATION;VALUE=URI;X-ADDRESS=Raymond Campus 608 Hinds Blvd Raymond MS 39154 United States;X-APPLE-RADIUS=500;X-TITLE=608 Hinds Blvd:geo:-90.416673816829,32.254909495787
END:VEVENT
BEGIN:VEVENT
DTSTART;TZID=America/Chicago:20260413T140000
DTEND;TZID=America/Chicago:20260416T170000
DTSTAMP:20260425T054150
CREATED:20260401T212533Z
LAST-MODIFIED:20260408T013105Z
UID:10003622-1776088800-1776358800@www.hindscc.edu
SUMMARY:Spring Fest 2026 - Raymond Campus
DESCRIPTION:
URL:https://www.hindscc.edu/calendar-event/spring-fest-2026-raymond-campus
LOCATION:Raymond Campus\, 608 Hinds Blvd\, Raymond\, MS\, 39154\, United States
CATEGORIES:Standard
ATTACH;FMTTYPE=application/pdf:https://www.hindscc.edu/wp-content/uploads/2026/04/SPRING_FEST_RY26-1.pdf
GEO:32.254909495787;-90.416673816829
X-APPLE-STRUCTURED-LOCATION;VALUE=URI;X-ADDRESS=Raymond Campus 608 Hinds Blvd Raymond MS 39154 United States;X-APPLE-RADIUS=500;X-TITLE=608 Hinds Blvd:geo:-90.416673816829,32.254909495787
END:VEVENT
BEGIN:VEVENT
DTSTART;VALUE=DATE:20260414
DTEND;VALUE=DATE:20260415
DTSTAMP:20260425T054150
CREATED:20260414T164622Z
LAST-MODIFIED:20260414T164655Z
UID:10004009-1776124800-1776211199@www.hindscc.edu
SUMMARY:Student Employee Appreciation Day
DESCRIPTION:Are you a Student Employee? You play an essential role in the success of Hinds Community College. Whether you’re greeting visitors or  assisting your peers\, your dedication doesn’t go unnoticed.
URL:https://www.hindscc.edu/calendar-event/student-employee-appreciation-day
LOCATION:MS
CATEGORIES:Standard
ATTACH;FMTTYPE=application/pdf:https://www.hindscc.edu/wp-content/uploads/2026/04/Student-Employment-Week-Flyer-w-Branding-Template.pdf
END:VEVENT
BEGIN:VEVENT
DTSTART;TZID=America/Chicago:20260414T130000
DTEND;TZID=America/Chicago:20260414T150000
DTSTAMP:20260425T054150
CREATED:20260108T202223Z
LAST-MODIFIED:20260413T210448Z
UID:10003595-1776171600-1776178800@www.hindscc.edu
SUMMARY:The Bad Seed: Presented by HCC Lendon Players
DESCRIPTION:General Admission: $8.00\nStudents: $5.00
URL:https://www.hindscc.edu/calendar-event/performing-arts-spring-musical/2026-04-14
LOCATION:Raymond Campus\, 608 Hinds Blvd\, Raymond\, MS\, 39154\, United States
CATEGORIES:Standard,Theatre
ATTACH;FMTTYPE=image/jpeg:https://www.hindscc.edu/wp-content/uploads/2026/01/TheBadSeed12x18Poster.jpg-scaled.jpg
GEO:32.254909495787;-90.416673816829
X-APPLE-STRUCTURED-LOCATION;VALUE=URI;X-ADDRESS=Raymond Campus 608 Hinds Blvd Raymond MS 39154 United States;X-APPLE-RADIUS=500;X-TITLE=608 Hinds Blvd:geo:-90.416673816829,32.254909495787
END:VEVENT
BEGIN:VEVENT
DTSTART;VALUE=DATE:20260415
DTEND;VALUE=DATE:20260428
DTSTAMP:20260425T054150
CREATED:20260415T233515Z
LAST-MODIFIED:20260415T233515Z
UID:10004012-1776211200-1777334399@www.hindscc.edu
SUMMARY:2026 Annual Student Art Exhibition
DESCRIPTION:
URL:https://www.hindscc.edu/calendar-event/2026-annual-student-art-exhibition
LOCATION:Raymond Campus\, 608 Hinds Blvd\, Raymond\, MS\, 39154\, United States
CATEGORIES:Art Exhibit,Standard
ATTACH;FMTTYPE=application/pdf:https://www.hindscc.edu/wp-content/uploads/2026/04/2026-Student-Art-Exhibition-copy_Cynthia-Groya.pdf
GEO:32.254909495787;-90.416673816829
X-APPLE-STRUCTURED-LOCATION;VALUE=URI;X-ADDRESS=Raymond Campus 608 Hinds Blvd Raymond MS 39154 United States;X-APPLE-RADIUS=500;X-TITLE=608 Hinds Blvd:geo:-90.416673816829,32.254909495787
END:VEVENT
BEGIN:VEVENT
DTSTART;TZID=America/Chicago:20260415T090000
DTEND;TZID=America/Chicago:20260415T120000
DTSTAMP:20260425T054150
CREATED:20260414T142506Z
LAST-MODIFIED:20260414T142521Z
UID:10004001-1776243600-1776254400@www.hindscc.edu
SUMMARY:Project Hope - Vicksburg Campus
DESCRIPTION:Join us for fun activities\, popcorn\, and learn methods to help manage stress.
URL:https://www.hindscc.edu/calendar-event/project-hope
LOCATION:Vicksburg-Warren Campus\, 755 Highway 27\, Vicksburg\, MS\, 39180\, United States
CATEGORIES:Standard
ATTACH;FMTTYPE=application/pdf:https://www.hindscc.edu/wp-content/uploads/2026/04/ProjectHope-Updated-Flyer-1.pdf
GEO:32.333131765482;-90.824596828583
X-APPLE-STRUCTURED-LOCATION;VALUE=URI;X-ADDRESS=Vicksburg-Warren Campus 755 Highway 27 Vicksburg MS 39180 United States;X-APPLE-RADIUS=500;X-TITLE=755 Highway 27:geo:-90.824596828583,32.333131765482
END:VEVENT
BEGIN:VEVENT
DTSTART;TZID=America/Chicago:20260415T120000
DTEND;TZID=America/Chicago:20260415T160000
DTSTAMP:20260425T054150
CREATED:20260408T013945Z
LAST-MODIFIED:20260408T014346Z
UID:10003995-1776254400-1776268800@www.hindscc.edu
SUMMARY:Career Preparedness Training
DESCRIPTION:
URL:https://www.hindscc.edu/calendar-event/career-preparedness-training/2026-04-15
LOCATION:Rankin Campus\, 3805 Highway 80 East\, Pearl\, MS\, 39208\, United States
CATEGORIES:Standard
GEO:32.280326439843;-90.088976142079
X-APPLE-STRUCTURED-LOCATION;VALUE=URI;X-ADDRESS=Rankin Campus 3805 Highway 80 East Pearl MS 39208 United States;X-APPLE-RADIUS=500;X-TITLE=3805 Highway 80 East:geo:-90.088976142079,32.280326439843
END:VEVENT
BEGIN:VEVENT
DTSTART;TZID=America/Chicago:20260415T183000
DTEND;TZID=America/Chicago:20260415T203000
DTSTAMP:20260425T054150
CREATED:20260108T202223Z
LAST-MODIFIED:20260413T210448Z
UID:10003593-1776277800-1776285000@www.hindscc.edu
SUMMARY:The Bad Seed: Presented by HCC Lendon Players
DESCRIPTION:General Admission: $8.00\nStudents: $5.00
URL:https://www.hindscc.edu/calendar-event/performing-arts-spring-musical/2026-04-15
LOCATION:Raymond Campus\, 608 Hinds Blvd\, Raymond\, MS\, 39154\, United States
CATEGORIES:Standard,Theatre
ATTACH;FMTTYPE=image/jpeg:https://www.hindscc.edu/wp-content/uploads/2026/01/TheBadSeed12x18Poster.jpg-scaled.jpg
GEO:32.254909495787;-90.416673816829
X-APPLE-STRUCTURED-LOCATION;VALUE=URI;X-ADDRESS=Raymond Campus 608 Hinds Blvd Raymond MS 39154 United States;X-APPLE-RADIUS=500;X-TITLE=608 Hinds Blvd:geo:-90.416673816829,32.254909495787
END:VEVENT
BEGIN:VEVENT
DTSTART;TZID=America/Chicago:20260416T090000
DTEND;TZID=America/Chicago:20260416T120000
DTSTAMP:20260425T054150
CREATED:20260414T142628Z
LAST-MODIFIED:20260414T142628Z
UID:10004002-1776330000-1776340800@www.hindscc.edu
SUMMARY:Project Hope - NAHC Campus
DESCRIPTION:Join us for fun activities\, popcorn\, and learn methods to help manage stress.
URL:https://www.hindscc.edu/calendar-event/project-hope-nahc-campus
LOCATION:Nursing Allied Health Center\, 1750 Chadwick Drive\, Jackson\, MS\, 39204\, United States
CATEGORIES:Standard
ATTACH;FMTTYPE=application/pdf:https://www.hindscc.edu/wp-content/uploads/2026/04/ProjectHope-Updated-Flyer-1.pdf
GEO:32.28699626082;-90.251331757419
X-APPLE-STRUCTURED-LOCATION;VALUE=URI;X-ADDRESS=Nursing Allied Health Center 1750 Chadwick Drive Jackson MS 39204 United States;X-APPLE-RADIUS=500;X-TITLE=1750 Chadwick Drive:geo:-90.251331757419,32.28699626082
END:VEVENT
BEGIN:VEVENT
DTSTART;TZID=America/Chicago:20260416T090000
DTEND;TZID=America/Chicago:20260416T130000
DTSTAMP:20260425T054150
CREATED:20260408T013945Z
LAST-MODIFIED:20260408T014346Z
UID:10003996-1776330000-1776344400@www.hindscc.edu
SUMMARY:Career Preparedness Training
DESCRIPTION:
URL:https://www.hindscc.edu/calendar-event/career-preparedness-training/2026-04-16
LOCATION:Rankin Campus\, 3805 Highway 80 East\, Pearl\, MS\, 39208\, United States
CATEGORIES:Standard
GEO:32.280326439843;-90.088976142079
X-APPLE-STRUCTURED-LOCATION;VALUE=URI;X-ADDRESS=Rankin Campus 3805 Highway 80 East Pearl MS 39208 United States;X-APPLE-RADIUS=500;X-TITLE=3805 Highway 80 East:geo:-90.088976142079,32.280326439843
END:VEVENT
BEGIN:VEVENT
DTSTART;TZID=America/Chicago:20260416T090000
DTEND;TZID=America/Chicago:20260418T180000
DTSTAMP:20260425T054150
CREATED:20260402T151414Z
LAST-MODIFIED:20260402T151414Z
UID:10003623-1776330000-1776535200@www.hindscc.edu
SUMMARY:Mississippi Afterburner Jet Rally
DESCRIPTION:This event is to help raise money for the Aviation Department Scholarship. We will host close to 100 pilots from all over the country flying radio controlled model jets.
URL:https://www.hindscc.edu/calendar-event/mississippi-afterburner-jet-rally
LOCATION:John Bell Williams Airport\, 4100 Airport Rd\, Bolton\, MS 39041\, Bolton\, MS\, 39041\, United States
CATEGORIES:Standard
ATTACH;FMTTYPE=image/jpeg:https://www.hindscc.edu/wp-content/uploads/2026/04/2026MSJET-HindsVision-1920x1080p.jpg
GEO:32 deg. 18’ 16.257”N;90 deg. 24’ 37.868”W
X-APPLE-STRUCTURED-LOCATION;VALUE=URI;X-ADDRESS=John Bell Williams Airport 4100 Airport Rd Bolton MS 39041 Bolton MS 39041 United States;X-APPLE-RADIUS=500;X-TITLE=4100 Airport Rd\, Bolton\, MS 39041:geo:90 deg. 24’ 37.868”W,32 deg. 18’ 16.257”N
END:VEVENT
BEGIN:VEVENT
DTSTART;TZID=America/Chicago:20260416T143000
DTEND;TZID=America/Chicago:20260416T153000
DTSTAMP:20260425T054150
CREATED:20250616T152406Z
LAST-MODIFIED:20260406T180328Z
UID:10003430-1776349800-1776353400@www.hindscc.edu
SUMMARY:PTK Faculty Appreciation Event
DESCRIPTION:This is for our teacher’s appreciation ceremony held every year to show our appreciation for all the hard work they do for our students.
URL:https://www.hindscc.edu/calendar-event/faculty-appreciation-event
LOCATION:Raymond Campus\, 608 Hinds Blvd\, Raymond\, MS\, 39154\, United States
CATEGORIES:Standard
GEO:32.254909495787;-90.416673816829
X-APPLE-STRUCTURED-LOCATION;VALUE=URI;X-ADDRESS=Raymond Campus 608 Hinds Blvd Raymond MS 39154 United States;X-APPLE-RADIUS=500;X-TITLE=608 Hinds Blvd:geo:-90.416673816829,32.254909495787
END:VEVENT
BEGIN:VEVENT
DTSTART;TZID=America/Chicago:20260416T190000
DTEND;TZID=America/Chicago:20260416T210000
DTSTAMP:20260425T054150
CREATED:20260108T202223Z
LAST-MODIFIED:20260413T210448Z
UID:10003597-1776366000-1776373200@www.hindscc.edu
SUMMARY:The Bad Seed: Presented by HCC Lendon Players
DESCRIPTION:General Admission: $8.00\nStudents: $5.00
URL:https://www.hindscc.edu/calendar-event/performing-arts-spring-musical/2026-04-16
LOCATION:Raymond Campus\, 608 Hinds Blvd\, Raymond\, MS\, 39154\, United States
CATEGORIES:Standard,Theatre
ATTACH;FMTTYPE=image/jpeg:https://www.hindscc.edu/wp-content/uploads/2026/01/TheBadSeed12x18Poster.jpg-scaled.jpg
GEO:32.254909495787;-90.416673816829
X-APPLE-STRUCTURED-LOCATION;VALUE=URI;X-ADDRESS=Raymond Campus 608 Hinds Blvd Raymond MS 39154 United States;X-APPLE-RADIUS=500;X-TITLE=608 Hinds Blvd:geo:-90.416673816829,32.254909495787
END:VEVENT
BEGIN:VEVENT
DTSTART;TZID=America/Chicago:20260417T093000
DTEND;TZID=America/Chicago:20260417T110000
DTSTAMP:20260425T054150
CREATED:20260324T152513Z
LAST-MODIFIED:20260324T152521Z
UID:10003616-1776418200-1776423600@www.hindscc.edu
SUMMARY:Skill that Make You Indispensable
DESCRIPTION:Find your career path at our virtual event.
URL:https://www.hindscc.edu/calendar-event/skill-that-make-you-indispensable
LOCATION:Virtual
CATEGORIES:Standard
ATTACH;FMTTYPE=application/pdf:https://www.hindscc.edu/wp-content/uploads/2026/03/2026BOT8.5x11VirtRecruit_FLYER_td.pdf
END:VEVENT
BEGIN:VEVENT
DTSTART;VALUE=DATE:20260420
DTEND;VALUE=DATE:20260424
DTSTAMP:20260425T054150
CREATED:20250729T155608Z
LAST-MODIFIED:20260422T151502Z
UID:10003445-1776643200-1776988799@www.hindscc.edu
SUMMARY:Spring Band Concert No. 2
DESCRIPTION:The Northwest Rankin High School Wind Ensemble will perform on our stage followed by the Hinds Wind Ensemble. The concert will be performed at 7 p.m. on Thursday\, April 23.
URL:https://www.hindscc.edu/calendar-event/spring-band-concert-no-2
LOCATION:Raymond Campus\, 608 Hinds Blvd\, Raymond\, MS\, 39154\, United States
CATEGORIES:Fine & Performing Arts,Standard
GEO:32.254909495787;-90.416673816829
X-APPLE-STRUCTURED-LOCATION;VALUE=URI;X-ADDRESS=Raymond Campus 608 Hinds Blvd Raymond MS 39154 United States;X-APPLE-RADIUS=500;X-TITLE=608 Hinds Blvd:geo:-90.416673816829,32.254909495787
END:VEVENT
END:VCALENDAR