
BEGIN:VCALENDAR
VERSION:2.0
PRODID:-//Hinds Community College - ECPv6.15.20//NONSGML v1.0//EN
CALSCALE:GREGORIAN
METHOD:PUBLISH
X-WR-CALNAME:Hinds Community College
X-ORIGINAL-URL:https://www.hindscc.edu
X-WR-CALDESC:Events for Hinds Community College
REFRESH-INTERVAL;VALUE=DURATION:PT1H
X-Robots-Tag:noindex
X-PUBLISHED-TTL:PT1H
BEGIN:VTIMEZONE
TZID:America/Chicago
BEGIN:DAYLIGHT
TZOFFSETFROM:-0600
TZOFFSETTO:-0500
TZNAME:CDT
DTSTART:20250309T080000
END:DAYLIGHT
BEGIN:STANDARD
TZOFFSETFROM:-0500
TZOFFSETTO:-0600
TZNAME:CST
DTSTART:20251102T070000
END:STANDARD
BEGIN:DAYLIGHT
TZOFFSETFROM:-0600
TZOFFSETTO:-0500
TZNAME:CDT
DTSTART:20260308T080000
END:DAYLIGHT
BEGIN:STANDARD
TZOFFSETFROM:-0500
TZOFFSETTO:-0600
TZNAME:CST
DTSTART:20261101T070000
END:STANDARD
BEGIN:DAYLIGHT
TZOFFSETFROM:-0600
TZOFFSETTO:-0500
TZNAME:CDT
DTSTART:20270314T080000
END:DAYLIGHT
BEGIN:STANDARD
TZOFFSETFROM:-0500
TZOFFSETTO:-0600
TZNAME:CST
DTSTART:20271107T070000
END:STANDARD
END:VTIMEZONE
BEGIN:VEVENT
DTSTART;TZID=America/Chicago:20260428T110000
DTEND;TZID=America/Chicago:20260428T130000
DTSTAMP:20260422T054345
CREATED:20260413T194537Z
LAST-MODIFIED:20260413T194537Z
UID:86537-1777374000-1777381200@www.hindscc.edu
SUMMARY:Spring Fest - NAHC
DESCRIPTION:
URL:https://www.hindscc.edu/calendar-event/spring-fest-nahc
LOCATION:Nursing Allied Health Center\, 1750 Chadwick Drive\, Jackson\, MS\, 39204\, United States
CATEGORIES:Standard
ATTACH;FMTTYPE=application/pdf:https://www.hindscc.edu/wp-content/uploads/2026/04/SPRING_FEST_NAH26.pdf
GEO:32.28699626082;-90.251331757419
X-APPLE-STRUCTURED-LOCATION;VALUE=URI;X-ADDRESS=Nursing Allied Health Center 1750 Chadwick Drive Jackson MS 39204 United States;X-APPLE-RADIUS=500;X-TITLE=1750 Chadwick Drive:geo:-90.251331757419,32.28699626082
END:VEVENT
END:VCALENDAR